BEGIN:VCALENDAR
VERSION:2.0
PRODID:-//IFMST - ECPv6.15.11//NONSGML v1.0//EN
CALSCALE:GREGORIAN
METHOD:PUBLISH
X-ORIGINAL-URL:https://ifmst.org
X-WR-CALDESC:Events for IFMST
REFRESH-INTERVAL;VALUE=DURATION:PT1H
X-Robots-Tag:noindex
X-PUBLISHED-TTL:PT1H
BEGIN:VTIMEZONE
TZID:UTC
BEGIN:STANDARD
TZOFFSETFROM:+0000
TZOFFSETTO:+0000
TZNAME:UTC
DTSTART:20240101T000000
END:STANDARD
END:VTIMEZONE
BEGIN:VTIMEZONE
TZID:Europe/London
BEGIN:DAYLIGHT
TZOFFSETFROM:+0000
TZOFFSETTO:+0100
TZNAME:BST
DTSTART:20240331T010000
END:DAYLIGHT
BEGIN:STANDARD
TZOFFSETFROM:+0100
TZOFFSETTO:+0000
TZNAME:GMT
DTSTART:20241027T010000
END:STANDARD
BEGIN:DAYLIGHT
TZOFFSETFROM:+0000
TZOFFSETTO:+0100
TZNAME:BST
DTSTART:20250330T010000
END:DAYLIGHT
BEGIN:STANDARD
TZOFFSETFROM:+0100
TZOFFSETTO:+0000
TZNAME:GMT
DTSTART:20251026T010000
END:STANDARD
BEGIN:DAYLIGHT
TZOFFSETFROM:+0000
TZOFFSETTO:+0100
TZNAME:BST
DTSTART:20260329T010000
END:DAYLIGHT
BEGIN:STANDARD
TZOFFSETFROM:+0100
TZOFFSETTO:+0000
TZNAME:GMT
DTSTART:20261025T010000
END:STANDARD
END:VTIMEZONE
BEGIN:VEVENT
DTSTART;VALUE=DATE:20250707
DTEND;VALUE=DATE:20250708
DTSTAMP:20260420T144803
CREATED:20250513T070842Z
LAST-MODIFIED:20250513T071211Z
UID:9053-1751846400-1751932799@ifmst.org
SUMMARY:Advanced Tour Planning & Itinerary Design
DESCRIPTION:Advanced Tour Planning & Itinerary Design\n\nOnline Course – July 7\, 2025\nOrganized by: International Federation of Municipalities Sports & Tourism (IFMST)\n\nWe invite all citizens\, students\, professors\, tourism professionals\, and urban planners to participate in this international training program. You can join in three ways:\n    1.    With an introduction letter from your municipality\n    2.    With an introduction letter from your university\n    3.    By contacting IFMST directly for individual registration\n\nImportant Notes:\n    •    Note 1: All knowledge-enhancing training courses are held online.\n    •    Note 2: A certificate signed by the IFMST President will be awarded to all participants.\n    •    Note 3: The course language is English.\n    •    Note 4: The course link will be shared after registration via email or WhatsApp.\n\nRegistration Deadline:\nUntil June 25\, 2025\n\nContact Information:\nWhatsApp & Telegram:+49 176 8452 8517 & +90 537 671 6444\n\nInstagram: @ifmst_org\nEmail: info@ifmst.org\nWebsite: www.ifmst.org
URL:https://ifmst.org/calendar/advanced-tour-planning-itinerary-design/
CATEGORIES:Tourist Event
ATTACH;FMTTYPE=image/jpeg:https://ifmst.org/wp-content/uploads/2025/05/ec0136cd-16d8-448f-99ab-7d1be0dc99cf.jpg
ORGANIZER;CN="IFMST":MAILTO:info@ifmst.org
END:VEVENT
BEGIN:VEVENT
DTSTART;TZID=Europe/London:20250716T140000
DTEND;TZID=Europe/London:20250716T150000
DTSTAMP:20260420T144803
CREATED:20250107T165608Z
LAST-MODIFIED:20250107T165608Z
UID:8131-1752674400-1752678000@ifmst.org
SUMMARY:International Workshop on Communication Sports
DESCRIPTION:We inform all citizens\, students\, professors\, trainers\, etc. that you can participate in IFMST programs in three ways:\n1- Obtain a letter of introduction from the municipality of your residence\n2- Obtain a letter of introduction from the university\n3- Contact IFMST directly \nNote 1: All knowledge-enhancing training courses are held online. \nNote 2: All federation events are held in person. \nNote 3: A certificate signed by the IFMST President will be issued to all participants. \nNote 4: The event will be held in English and on the Google Meet platform. \nRegistration deadline: Until Jun 15\, 2025 \nContact details: \nWhatsApp and Telegram: +4917654528517 – +905376716444 \nInstagram: ifmst_org \nEmail: info@ifmst.org
URL:https://ifmst.org/calendar/international-workshop-on-communication-sports/
CATEGORIES:Sports science
ATTACH;FMTTYPE=image/jpeg:https://ifmst.org/wp-content/uploads/2025/01/International-Workshop-on-Communication-Sports-scaled.jpg
ORGANIZER;CN="IFMST":MAILTO:info@ifmst.org
END:VEVENT
BEGIN:VEVENT
DTSTART;VALUE=DATE:20250720
DTEND;VALUE=DATE:20250724
DTSTAMP:20260420T144803
CREATED:20250515T071822Z
LAST-MODIFIED:20250515T071943Z
UID:9083-1752969600-1753315199@ifmst.org
SUMMARY:International Yoga & Wellness Coaching Course
DESCRIPTION:Course Title: \nInternational Yoga & Wellness Coaching Course (Level C) \nLocation: Rishikesh\, India – The Global Capital of Yoga \nCertification & Recognition: \n\nOfficial international certificate issued by IFMST\nVerifiable via QR code\nEligibility for progression to Level B & A\n\nCourse Objectives: \n\nFoundation principles of classical and modern yoga\nWellness and mindfulness coaching techniques\nIntroduction to therapeutic yoga and breathing science (pranayama)\nBasic anatomy and postural alignment\nHolistic lifestyle coaching\nDaily guided practice sessions\n\nTarget Participants: \n\nYoga enthusiasts and practitioners\nBeginner coaches and wellness promoters\nPhysical educators and fitness instructors\nMunicipal sports and culture department members\nIndividuals seeking certification for yoga-based careers\n\nSchedule & Duration: \n\nDates: July 20–23\, 2025\nDuration: 4 days (intensive sessions + practicals)\n\nCourse Package Includes: \n\nRegistration Fee: $2700 USD\nCertification from IFMST\nTraining materials and workbook\nAccommodation (3 nights) with vegetarian meals\nDaily yoga\, wellness sessions & cultural experience\nCommunity outreach activity for wellness promotion\nWelcome kit and official group photo\n\nKey Benefits: \n\nInternational certification for yoga and wellness coaching\nOpportunity to upgrade to higher levels\nExposure to authentic Indian yoga tradition in Rishikesh\nNetwork with global participants and instructors\nBoost career opportunities in wellness\, tourism\, and education\n\nContact & Registration: \n\nWhatsApp: +49 176 8452 8517 | +90 537 671 6444\nInstagram: @ifmst_org\nWebsite: www.ifmst.org\nEmail: info@ifmst.org
URL:https://ifmst.org/calendar/international-yoga-wellness-coaching-course/
LOCATION:India\, India\, Rishikesh\, India
CATEGORIES:SPORT EVENT
ATTACH;FMTTYPE=image/jpeg:https://ifmst.org/wp-content/uploads/2025/05/738d8491-7e0c-489c-8f99-7ffea118d6cf.jpg
ORGANIZER;CN="IFMST":MAILTO:info@ifmst.org
END:VEVENT
BEGIN:VEVENT
DTSTART;VALUE=DATE:20250726
DTEND;VALUE=DATE:20250730
DTSTAMP:20260420T144803
CREATED:20250517T092402Z
LAST-MODIFIED:20250517T092402Z
UID:9127-1753488000-1753833599@ifmst.org
SUMMARY:Introduction to Culinary Tourism & Indian Ocean Spices
DESCRIPTION:Event Title: \n\nInternational Event: An Introduction to Culinary Tourism and Indian Ocean Spices\n\nCertification: \n\nInternational Certificate in Basic Skills for Culinary Tourism and Indian Ocean Spices\n\nTarget Audience: \n\nAll those interested in tourism events\n\nOverview: \nSpice Odyssey is a four-day international cultural and culinary tourism experience in the spice-rich island of Zanzibar. This event blends exploration\, food culture\, and heritage\, with a hands-on beginner-level training in culinary tourism and spice education from Indian Ocean regions (Tanzania\, India\, Sri Lanka\, Oman\, etc.).\nEvent description: \nDay 1: \nArrival & Welcome Ceremony \nIntroduction to Culinary Tourism \nSensory Tasting of Indian Ocean Spices \nDay 2: \nVisit Local Spice Farms \nCooking Workshop with Local Chefs \nInteractive Session: Spices in Heritage and Trade \nDay 3: \nMarket Tour: Local Ingredients & Spice Commerce \nGroup Challenge: “Spice Fusion Cooking” Competition \nCultural Night: Live Music + Traditional Dinner \nDay 4: \nSummary Panel & Feedback Session \nCertificate Award Ceremony \nDeparture \nRegistration Fee: \n\n$1\,950\nIncludes hotel accommodation with breakfast and snacks\, recorded videos\, international certificate\, support\, printed materials\, and more.\n\nEvent Benefits: \n\nExpanding Knowledge and Skills\nNetworking and Business Opportunities\nFamiliarity with New Travel Routes and Tourist Attraction\nEnhancing Cultural Awareness\nGaining Inspiration and New Ideas\n\nRegistration and Contact: \n\nWhatsApp: +49 176 84528517 & +905376716444\nInstagram: @ifmst_org\nOfficial Email: info@ifmst.org
URL:https://ifmst.org/calendar/introduction-to-culinary-tourism-indian-ocean-spices/
LOCATION:TANZANIA\, TANZANIA\, ZANZIBAR\, Tanzania\, United Republic of
CATEGORIES:Tourist Event
ATTACH;FMTTYPE=image/jpeg:https://ifmst.org/wp-content/uploads/2025/05/PHOTO-2025-05-17-10-54-29.jpg
ORGANIZER;CN="IFMST":MAILTO:info@ifmst.org
END:VEVENT
END:VCALENDAR