BEGIN:VCALENDAR
VERSION:2.0
PRODID:-//IFMST - ECPv6.15.11//NONSGML v1.0//EN
CALSCALE:GREGORIAN
METHOD:PUBLISH
X-WR-CALNAME:IFMST
X-ORIGINAL-URL:https://ifmst.org
X-WR-CALDESC:Events for IFMST
REFRESH-INTERVAL;VALUE=DURATION:PT1H
X-Robots-Tag:noindex
X-PUBLISHED-TTL:PT1H
BEGIN:VTIMEZONE
TZID:Europe/London
BEGIN:DAYLIGHT
TZOFFSETFROM:+0000
TZOFFSETTO:+0100
TZNAME:BST
DTSTART:20230326T010000
END:DAYLIGHT
BEGIN:STANDARD
TZOFFSETFROM:+0100
TZOFFSETTO:+0000
TZNAME:GMT
DTSTART:20231029T010000
END:STANDARD
BEGIN:DAYLIGHT
TZOFFSETFROM:+0000
TZOFFSETTO:+0100
TZNAME:BST
DTSTART:20240331T010000
END:DAYLIGHT
BEGIN:STANDARD
TZOFFSETFROM:+0100
TZOFFSETTO:+0000
TZNAME:GMT
DTSTART:20241027T010000
END:STANDARD
BEGIN:DAYLIGHT
TZOFFSETFROM:+0000
TZOFFSETTO:+0100
TZNAME:BST
DTSTART:20250330T010000
END:DAYLIGHT
BEGIN:STANDARD
TZOFFSETFROM:+0100
TZOFFSETTO:+0000
TZNAME:GMT
DTSTART:20251026T010000
END:STANDARD
END:VTIMEZONE
BEGIN:VTIMEZONE
TZID:UTC
BEGIN:STANDARD
TZOFFSETFROM:+0000
TZOFFSETTO:+0000
TZNAME:UTC
DTSTART:20220101T000000
END:STANDARD
END:VTIMEZONE
BEGIN:VEVENT
DTSTART;TZID=Europe/London:20240415T170000
DTEND;TZID=Europe/London:20240415T190000
DTSTAMP:20260419T192744
CREATED:20230820T075914Z
LAST-MODIFIED:20240329T115211Z
UID:899-1713200400-1713207600@ifmst.org
SUMMARY:Workshop on Economic Effects of Hosting Sports Events on World Cities
DESCRIPTION:
URL:https://ifmst.org/calendar/workshop-on-economic-effects-of-hosting-sports-events-on-world-cities/
ATTACH;FMTTYPE=image/jpeg:https://ifmst.org/wp-content/uploads/2023/08/Sports-economics-scaled.jpg
ORGANIZER;CN="IFMST":MAILTO:info@ifmst.org
END:VEVENT
BEGIN:VEVENT
DTSTART;VALUE=DATE:20240220
DTEND;VALUE=DATE:20240225
DTSTAMP:20260419T192744
CREATED:20230819T152604Z
LAST-MODIFIED:20240101T064101Z
UID:865-1708387200-1708819199@ifmst.org
SUMMARY:The First Coaching Course of Operational Sports Competitions
DESCRIPTION:
URL:https://ifmst.org/calendar/the-first-coaching-course-of-operational-sports-competitions/
ORGANIZER;CN="IFMST":MAILTO:info@ifmst.org
END:VEVENT
BEGIN:VEVENT
DTSTART;VALUE=DATE:20231011
DTEND;VALUE=DATE:20231201
DTSTAMP:20260419T192744
CREATED:20231011T165636Z
LAST-MODIFIED:20231011T170006Z
UID:1120-1696982400-1701388799@ifmst.org
SUMMARY:Virtual course of strategic management in sports citizenship
DESCRIPTION:informs that IFMST Education and Research Vice-Chancellor intends to hold an international training course (strategic management in citizenship sports) using leading professors from world universities in December 2023.
URL:https://ifmst.org/calendar/virtual-course-of-strategic-management-in-sports-citizenship/
ATTACH;FMTTYPE=image/jpeg:https://ifmst.org/wp-content/uploads/2023/10/management-in-sports-citizenship.jpg
ORGANIZER;CN="IFMST":MAILTO:info@ifmst.org
END:VEVENT
END:VCALENDAR