BEGIN:VCALENDAR
VERSION:2.0
PRODID:-//IFMST - ECPv6.15.11//NONSGML v1.0//EN
CALSCALE:GREGORIAN
METHOD:PUBLISH
X-ORIGINAL-URL:https://ifmst.org
X-WR-CALDESC:Events for IFMST
REFRESH-INTERVAL;VALUE=DURATION:PT1H
X-Robots-Tag:noindex
X-PUBLISHED-TTL:PT1H
BEGIN:VTIMEZONE
TZID:UTC
BEGIN:STANDARD
TZOFFSETFROM:+0000
TZOFFSETTO:+0000
TZNAME:UTC
DTSTART:20240101T000000
END:STANDARD
END:VTIMEZONE
BEGIN:VTIMEZONE
TZID:Europe/London
BEGIN:DAYLIGHT
TZOFFSETFROM:+0000
TZOFFSETTO:+0100
TZNAME:BST
DTSTART:20240331T010000
END:DAYLIGHT
BEGIN:STANDARD
TZOFFSETFROM:+0100
TZOFFSETTO:+0000
TZNAME:GMT
DTSTART:20241027T010000
END:STANDARD
BEGIN:DAYLIGHT
TZOFFSETFROM:+0000
TZOFFSETTO:+0100
TZNAME:BST
DTSTART:20250330T010000
END:DAYLIGHT
BEGIN:STANDARD
TZOFFSETFROM:+0100
TZOFFSETTO:+0000
TZNAME:GMT
DTSTART:20251026T010000
END:STANDARD
BEGIN:DAYLIGHT
TZOFFSETFROM:+0000
TZOFFSETTO:+0100
TZNAME:BST
DTSTART:20260329T010000
END:DAYLIGHT
BEGIN:STANDARD
TZOFFSETFROM:+0100
TZOFFSETTO:+0000
TZNAME:GMT
DTSTART:20261025T010000
END:STANDARD
END:VTIMEZONE
BEGIN:VEVENT
DTSTART;TZID=UTC:20250801T090000
DTEND;TZID=UTC:20250805T190000
DTSTAMP:20260424T155308
CREATED:20250509T165201Z
LAST-MODIFIED:20250509T170015Z
UID:9019-1754038800-1754420400@ifmst.org
SUMMARY:International Sports Massage Coaching Course
DESCRIPTION:Course Title: \n\nInternational Sports Massage Coaching Course (Level C)\n\nCertification: \n\nInternationally recognized certificate will be awarded\n\nTarget Audience: \n\nIndividuals interested in health and body therapy\, athletes\, sports coaches\, physical education students\, and more.\n\nCourse Content and Modules: \n\nFundamentals and Initial Orientation\nSpecialized Sports Massage Techniques\nEffleurage (light\, warming strokes)\nPetrissage (deep kneading and pressure techniques)\nTapotement (gentle tapping or percussion)\nPassive and Active Stretching\nTrigger Point Therapy (treatment of muscle pain points)\nPractical Applications and Protocol Design\n\nDuration and Format: \n\n5 sessions (40 hours total)\nIn-person format\nAugust 1 to 5\, 2025\n\nRegistration Fee: \n\n$1\,560\nIncludes hotel accommodation with breakfast and snacks\, recorded videos\, international certificate\, support\, printed materials\, and more.\n\nCourse Benefits: \n\nReceive an internationally recognized certificate\nJob opportunities after course completion\nEligibility for advanced courses\nOngoing educational support and networking group\n\nRegistration and Contact: \n\nWhatsApp: +49 176 84528517 & +905376716444\nInstagram: @ifmst_org\nOfficial Email: info@ifmst.org\n\nVenue: \n\nPhuket City\, Thailand
URL:https://ifmst.org/calendar/international-sports-massage-coaching-course/
LOCATION:Phuket City\, Thailand\, Phuket\, Thailand
CATEGORIES:SPORT EVENT,Sports Business,Sports science
ATTACH;FMTTYPE=image/jpeg:https://ifmst.org/wp-content/uploads/2025/05/abc9fc27-d975-42f4-97b3-4e775c432b9e.jpg
END:VEVENT
BEGIN:VEVENT
DTSTART;TZID=Europe/London:20250820T140000
DTEND;TZID=Europe/London:20250820T150000
DTSTAMP:20260424T155308
CREATED:20250108T092717Z
LAST-MODIFIED:20250108T092717Z
UID:8157-1755698400-1755702000@ifmst.org
SUMMARY:International Workshop on the Health Benefits of Fasting
DESCRIPTION:We inform all citizens\, students\, professors\, trainers\, etc. that you can participate in IFMST programs in three ways:\n1- Obtain a letter of introduction from the municipality of your residence\n2- Obtain a letter of introduction from the university\n3- Contact IFMST directly \nNote 1: All knowledge-enhancing training courses are held online. \nNote 2: All federation events are held in person. \nNote 3: A certificate signed by the IFMST President will be issued to all participants. \nNote 4: The event will be held in English and on the Google Meet platform. \nRegistration deadline: Until July 15\, 2025 \nContact details: \nWhatsApp and Telegram: +4917654528517 – +905376716444 \nInstagram: ifmst_org \nEmail: info@ifmst.org
URL:https://ifmst.org/calendar/international-workshop-on-the-health-benefits-of-fasting/
CATEGORIES:Sports science
ATTACH;FMTTYPE=image/jpeg:https://ifmst.org/wp-content/uploads/2025/01/International-Workshop-on-the-Health-Benefits-of-Fasting-scaled.jpg
ORGANIZER;CN="IFMST":MAILTO:info@ifmst.org
END:VEVENT
END:VCALENDAR