BEGIN:VCALENDAR
VERSION:2.0
PRODID:-//IFMST - ECPv6.15.11//NONSGML v1.0//EN
CALSCALE:GREGORIAN
METHOD:PUBLISH
X-ORIGINAL-URL:https://ifmst.org
X-WR-CALDESC:Events for IFMST
REFRESH-INTERVAL;VALUE=DURATION:PT1H
X-Robots-Tag:noindex
X-PUBLISHED-TTL:PT1H
BEGIN:VTIMEZONE
TZID:Europe/London
BEGIN:DAYLIGHT
TZOFFSETFROM:+0000
TZOFFSETTO:+0100
TZNAME:BST
DTSTART:20250330T010000
END:DAYLIGHT
BEGIN:STANDARD
TZOFFSETFROM:+0100
TZOFFSETTO:+0000
TZNAME:GMT
DTSTART:20251026T010000
END:STANDARD
BEGIN:DAYLIGHT
TZOFFSETFROM:+0000
TZOFFSETTO:+0100
TZNAME:BST
DTSTART:20260329T010000
END:DAYLIGHT
BEGIN:STANDARD
TZOFFSETFROM:+0100
TZOFFSETTO:+0000
TZNAME:GMT
DTSTART:20261025T010000
END:STANDARD
BEGIN:DAYLIGHT
TZOFFSETFROM:+0000
TZOFFSETTO:+0100
TZNAME:BST
DTSTART:20270328T010000
END:DAYLIGHT
BEGIN:STANDARD
TZOFFSETFROM:+0100
TZOFFSETTO:+0000
TZNAME:GMT
DTSTART:20271031T010000
END:STANDARD
END:VTIMEZONE
BEGIN:VEVENT
DTSTART;TZID=Europe/London:20260305T140000
DTEND;TZID=Europe/London:20260305T160000
DTSTAMP:20260420T131923
CREATED:20251205T103626Z
LAST-MODIFIED:20251205T103626Z
UID:9483-1772719200-1772726400@ifmst.org
SUMMARY:Introduction to the Principles and Concepts of Foresight in Urban management
DESCRIPTION:Introducing the Principles and Concepts of Foresight in Urban Management\nUrban management in the 21st century demands more than responding to today’s challenges — it requires the ability to anticipate tomorrow’s realities. This comprehensive introduction explores the foundational principles and key concepts of foresight and their critical role in shaping the future of our cities. \nThrough strategic scanning\, scenario building\, trend analysis\, and long-term visioning\, foresight empowers city leaders\, planners\, and policymakers to design adaptive strategies that reduce risks\, enhance sustainability\, and improve the quality of life for all citizens. \nFrom climate resilience and technological innovation to demographic shifts and urban mobility\, understanding foresight equips urban managers with the tools needed to navigate complexity and build smarter\, future-ready cities. Join us as we dive into the transformative power of foresight and its impact on the next generation of urban development and governance. \nRegister today and take a step toward more effective and innovative city governance. \nWhatsApp & Telegram:\n+49 176 8452 8517\n+90 537 671 6444\nInstagram: @ifmst_org\nEmail: info@ifmst.org\nWebsite: www.ifmst.
URL:https://ifmst.org/calendar/introduction-to-the-principles-and-concepts-of-foresight-in-urban-management/
CATEGORIES:General Event,Management
ATTACH;FMTTYPE=image/png:https://ifmst.org/wp-content/uploads/2025/12/mp1.png
ORGANIZER;CN="IFMST":MAILTO:info@ifmst.org
END:VEVENT
END:VCALENDAR