BEGIN:VCALENDAR
VERSION:2.0
PRODID:-//IFMST - ECPv6.15.11//NONSGML v1.0//EN
CALSCALE:GREGORIAN
METHOD:PUBLISH
X-ORIGINAL-URL:https://ifmst.org
X-WR-CALDESC:Events for IFMST
REFRESH-INTERVAL;VALUE=DURATION:PT1H
X-Robots-Tag:noindex
X-PUBLISHED-TTL:PT1H
BEGIN:VTIMEZONE
TZID:UTC
BEGIN:STANDARD
TZOFFSETFROM:+0000
TZOFFSETTO:+0000
TZNAME:UTC
DTSTART:20240101T000000
END:STANDARD
END:VTIMEZONE
BEGIN:VEVENT
DTSTART;VALUE=DATE:20251020
DTEND;VALUE=DATE:20251025
DTSTAMP:20260420T083035
CREATED:20250513T064547Z
LAST-MODIFIED:20250513T064547Z
UID:9049-1760918400-1761350399@ifmst.org
SUMMARY:International Adventure Tourism & Wilderness Survival Course
DESCRIPTION:International Adventure Tourism & Wilderness Survival Course \n(Level C) – Kathmandu\, Nepal \nCertification: \n\nAn internationally recognized certificate will be awarded to all participants\, signed by the President of IFMST.\n\nTarget Audience: \n\nAdventure and eco-tourism enthusiasts\nTravel and tour guides\nOutdoor activity organizers\nRescue team trainees and nature lovers\nStudents and professionals in tourism\, sports\, and environmental fields\n\nCourse Content and Modules: \n\nIntroduction to Adventure Tourism & Sustainable Travel\nWilderness Survival Skills (Shelter\, Water\, Fire\, Food)\nNavigation & Orientation Techniques (Maps\, Compass\, GPS)\nRisk Assessment & Safety Management\nFirst Aid & Emergency Response in Remote Areas\nExpedition Planning & Team Dynamics\nCultural Awareness and Local Engagement in Nepal\nField Practice & Final Evaluation\n\nDuration and Format: \n\n5 days\, In-person course\nOctober 20 – 24\, 2025\nLocation: Kathmandu\, Nepal\n\nRegistration Fee: \n\n$1\,690\nFee includes: \n\nOn-site training and workshops\nHotel accommodation with breakfast\nTravel insurance during training\nInternational certificate\nEducational materials (digital & printed)\nLocal field guide and interpreter\nSupport and post-course networking\n\n\n\nCourse Benefits: \n\nDevelop real-world survival skills\nBoost your CV for global adventure tourism careers\nCertification for future Level B and A programs\nJoin a global network of certified wilderness trainers\nCultural experience in one of the world’s top trekking regions\n\nRegistration and Contact: \nWhatsApp & Telegram:+49 176 8452 8517 & +90 537 671 6444 \nInstagram: @ifmst_org \nEmail: info@ifmst.org \nWebsite: www.ifmst.org
URL:https://ifmst.org/calendar/international-adventure-tourism-wilderness-survival-course/
LOCATION:Nepal\, Kathmandu\, Nepal
CATEGORIES:SPORT EVENT
ATTACH;FMTTYPE=image/jpeg:https://ifmst.org/wp-content/uploads/2025/05/13f68e14-2095-4a85-851e-bd85cf4c4ca5-1.jpg
ORGANIZER;CN="IFMST":MAILTO:info@ifmst.org
END:VEVENT
BEGIN:VEVENT
DTSTART;VALUE=DATE:20251020
DTEND;VALUE=DATE:20251025
DTSTAMP:20260420T083035
CREATED:20250517T090708Z
LAST-MODIFIED:20250517T090708Z
UID:9123-1760918400-1761350399@ifmst.org
SUMMARY:Specialized Course in Sports Tourism & Event Management
DESCRIPTION:Course Title: \n• Specialized Course in Sports Tourism & Event Management (Level C) \nCertification: \n• An internationally recognized certificate will be awarded upon successful completion. \nTarget Audience: \n• Sports and tourism professionals \n• Event organizers and managers \n• Physical education and sports management students \n• Tourism entrepreneurs and enthusiasts \n• Municipality and city event planners \nCourse Content and Modules: \n• Introduction to Sports Tourism: Concepts & Global Trends \n• Designing and Planning Sports Tourism Programs \n• Event Management Fundamentals: From Concept to Execution \n• Marketing and Branding of Sports Events \n• Sponsorship\, Partnerships\, and Stakeholder Engagement \n• Logistics\, Risk Management\, and Operational Planning \n• Case Studies of Major International Sports Events \n• Practical Workshop: Event Simulation and Planning Exercise \nDuration and Format: \n• 5 days (40 hours total) \n• In-person\, interactive course \n• October 20–24\, 2025 \nRegistration Fee: \n• $3\,580 \n• Includes hotel accommodation with breakfast\, training materials\, international certificate\, local tours\, networking dinner\, and post-course support \nCourse Benefits: \n• Receive a globally recognized certification \n• Gain practical skills for sports event planning and tourism project design \n• Develop international connections with industry professionals \n• Qualify for advanced IFMST certifications \n• Expand career opportunities in the growing sports tourism sector \nRegistration and Contact: \n• WhatsApp: +49 176 8452 8517 & +90 537 671 6444 \n• Instagram: @ifmst_org \n• Email: info@ifmst.org \nVenue: \n• Barcelona\, Spain
URL:https://ifmst.org/calendar/specialized-course-in-sports-tourism-event-management/
LOCATION:Spain\, Spain \, Barcelona\, Spain
CATEGORIES:Management,SPORT EVENT,Tourist Event
ATTACH;FMTTYPE=image/jpeg:https://ifmst.org/wp-content/uploads/2025/05/71e13168-27b6-4d4a-ab0a-51c687827f53.jpg
ORGANIZER;CN="IFMST":MAILTO:info@ifmst.org
END:VEVENT
END:VCALENDAR