BEGIN:VCALENDAR
VERSION:2.0
PRODID:-//IFMST - ECPv6.15.11//NONSGML v1.0//EN
CALSCALE:GREGORIAN
METHOD:PUBLISH
X-WR-CALNAME:IFMST
X-ORIGINAL-URL:https://ifmst.org
X-WR-CALDESC:Events for IFMST
REFRESH-INTERVAL;VALUE=DURATION:PT1H
X-Robots-Tag:noindex
X-PUBLISHED-TTL:PT1H
BEGIN:VTIMEZONE
TZID:UTC
BEGIN:STANDARD
TZOFFSETFROM:+0000
TZOFFSETTO:+0000
TZNAME:UTC
DTSTART:20240101T000000
END:STANDARD
END:VTIMEZONE
BEGIN:VTIMEZONE
TZID:Europe/London
BEGIN:DAYLIGHT
TZOFFSETFROM:+0000
TZOFFSETTO:+0100
TZNAME:BST
DTSTART:20240331T010000
END:DAYLIGHT
BEGIN:STANDARD
TZOFFSETFROM:+0100
TZOFFSETTO:+0000
TZNAME:GMT
DTSTART:20241027T010000
END:STANDARD
BEGIN:DAYLIGHT
TZOFFSETFROM:+0000
TZOFFSETTO:+0100
TZNAME:BST
DTSTART:20250330T010000
END:DAYLIGHT
BEGIN:STANDARD
TZOFFSETFROM:+0100
TZOFFSETTO:+0000
TZNAME:GMT
DTSTART:20251026T010000
END:STANDARD
BEGIN:DAYLIGHT
TZOFFSETFROM:+0000
TZOFFSETTO:+0100
TZNAME:BST
DTSTART:20260329T010000
END:DAYLIGHT
BEGIN:STANDARD
TZOFFSETFROM:+0100
TZOFFSETTO:+0000
TZNAME:GMT
DTSTART:20261025T010000
END:STANDARD
END:VTIMEZONE
BEGIN:VEVENT
DTSTART;VALUE=DATE:20250902
DTEND;VALUE=DATE:20251001
DTSTAMP:20260420T133021
CREATED:20250825T181425Z
LAST-MODIFIED:20250825T181425Z
UID:9340-1756771200-1759276799@ifmst.org
SUMMARY:Global Challenge “Voices of Cities”
DESCRIPTION:The International Federation of Municipalitis’ Sports & Tourism (IFMST) proudly presents: \nGlobal Challenge “Voices of Cities” \nWhere every musician becomes an ambassador of their city’s culture. \nShowcase your city’s unique identity through a solo performance on your favorite instrument! \n Competition Details: \n\nTheme: Solo performance (Piano\, Tonbak\, Violin\, Trumpet\, or a local traditional instrument)\nSpecial Requirement: A brief introduction of your city or neighborhood before the performance\nSubmission Period: September 2 – September 30\, 2025\n\nParticipation Steps: \n1️⃣ Submit your performance video online \n2️⃣ Selection by an international panel of judges \n💵 Registration Fee: $50 USD \n Awards: \n\nTotal Prize Pool: $100\,000 💰\n$20\,000 for the top performance in each instrument category\nA cultural trip to a historic city among IFMST members\nLive performance opportunities at international sports & tourism events\nDigital album release of top performances: “Voices of Cities”\n\nPayment via digital wallet to the address:\n\n\nTTwmB6QSsfe7JJbg6MvuCbYak5P7efxr9b\n\n\nJoin us and let your city’s voice be heard worldwide! \n📩 Submission & Contact: \n📧 Email: info@ifmst.org \n📞 WhatsApp & Telegram: \n+49 176 8452 8517 \n+90 537 671 6444 \n📸 Instagram: @ifmst_org \n🌐 Website: www.ifmst.org
URL:https://ifmst.org/calendar/global-challenge-voices-of-cities/
CATEGORIES:General Event
ATTACH;FMTTYPE=image/jpeg:https://ifmst.org/wp-content/uploads/2025/08/music-1.jpg
ORGANIZER;CN="IFMST":MAILTO:info@ifmst.org
END:VEVENT
BEGIN:VEVENT
DTSTART;TZID=Europe/London:20250916T140000
DTEND;TZID=Europe/London:20250916T150000
DTSTAMP:20260420T133021
CREATED:20250108T115009Z
LAST-MODIFIED:20250108T115009Z
UID:8160-1758031200-1758034800@ifmst.org
SUMMARY:International Workshop on Emotional Intelligence Control and Stress Management in Organizations and Work Teams
DESCRIPTION:We inform all citizens\, students\, professors\, trainers\, etc. that you can participate in IFMST programs in three ways:\n1- Obtain a letter of introduction from the municipality of your residence\n2- Obtain a letter of introduction from the university\n3- Contact IFMST directly \nNote 1: All knowledge-enhancing training courses are held online. \nNote 2: All federation events are held in person. \nNote 3: A certificate signed by the IFMST President will be issued to all participants. \nNote 4: The event will be held in English and on the Google Meet platform. \nRegistration deadline: Until Agu 15\, 2025 \nContact details: \nWhatsApp and Telegram: +4917654528517 – +905376716444 \nInstagram: ifmst_org \nEmail: info@ifmst.org
URL:https://ifmst.org/calendar/international-workshop-on-emotional-intelligence-control-and-stress-management-in-organizations-and-work-teams/
CATEGORIES:Management
ATTACH;FMTTYPE=image/jpeg:https://ifmst.org/wp-content/uploads/2025/01/Stress-Management-scaled.jpg
ORGANIZER;CN="IFMST":MAILTO:info@ifmst.org
END:VEVENT
END:VCALENDAR