BEGIN:VCALENDAR
VERSION:2.0
PRODID:-//IFMST - ECPv6.15.11//NONSGML v1.0//EN
CALSCALE:GREGORIAN
METHOD:PUBLISH
X-WR-CALNAME:IFMST
X-ORIGINAL-URL:https://ifmst.org
X-WR-CALDESC:Events for IFMST
REFRESH-INTERVAL;VALUE=DURATION:PT1H
X-Robots-Tag:noindex
X-PUBLISHED-TTL:PT1H
BEGIN:VTIMEZONE
TZID:UTC
BEGIN:STANDARD
TZOFFSETFROM:+0000
TZOFFSETTO:+0000
TZNAME:UTC
DTSTART:20240101T000000
END:STANDARD
END:VTIMEZONE
BEGIN:VEVENT
DTSTART;VALUE=DATE:20250808
DTEND;VALUE=DATE:20250823
DTSTAMP:20260420T181255
CREATED:20250728T033553Z
LAST-MODIFIED:20250728T033553Z
UID:9305-1754611200-1755907199@ifmst.org
SUMMARY:International Call for Urban Photography Challenge
DESCRIPTION:International Call for Urban Photography Challenge\n\nEvent Dates: August 8 to 22\, 2025\nHost: International Federation of  Municipalities’ Sports and Tourism & (IFMST)\nOrganizer: International Urban Photographers Committee (IUPC)\nTotal Prizes: $15\,000 + International Participation Certificates\n\nEvent Objectives:\n• Showcase the beauty of urban life through the eyes of photographers worldwide\n• Build a bridge between history\, modernity\, and a healthy urban lifestyle\n• Promote civic culture\, sports\, and preservation of historical heritage\n• Discover new photography talents and provide a platform to introduce their works globally\n\nCompetition Themes:\n1. Sports in the City:\nCapturing sports moments and active lifestyles in urban spaces\, from street sports to major events.\n2. City Life:\nDepicting everyday life\, social interactions\, and the spirit of living in cities.\n3. Historical Sites:\nConnecting historical heritage and the modern world through the camera lens.\n4. Urban Attractions:\nIntroducing architecture\, public spaces\, and scenic urban views with a creative perspective.\n\nRegistration Conditions:\n• Participants: Professional and amateur photographers and enthusiasts worldwide\n• Photography Tools: Photos can be taken with professional cameras or mobile phones; creativity and quality are the main criteria\n• Maximum Submissions: 4 high-quality JPEG images\n• Registration and Submission Deadline: August 8 to 22\, 2025\n• Download Registration Form: Available on the official website www.ifmst.org\n• Submission Methods: Email to info@ifmst.org or WhatsApp +49 176 8452 8517\n• Required Documents: Completed registration form\, submitted photos\, and payment receipt\n\nRegistration Fees:\nFees are tiered based on the number of photos submitted:\n• 1 photo: $40\n• 2 photos: $30\n• 3 photos: $20\n• 4 photos: $10\n\nPayment via digital wallet to the address:\n\nTTwmB6QSsfe7JJbg6MvuCbYak5P7efxr9b\n\nHow the Competition is Held:\n• The competition is held online and internationally\n• Judging by an international panel based on creativity\, technical quality\, relevance to the theme\, and impact\n• Results announced on September 5 via website and social media\n\nPrizes:\n• 1st place: $7\,000 + International Winner Certificate\n• 2nd place: $5\,000 + International Winner Certificate\n• 3rd place: $3\,000 + International Winner Certificate\n• All participants: International Participation Certificate
URL:https://ifmst.org/calendar/international-call-for-urban-photography-challenge/
CATEGORIES:General Event
ATTACH;FMTTYPE=image/jpeg:https://ifmst.org/wp-content/uploads/2025/07/PHOTO-2025-07-27-19-55-48-8.jpg
END:VEVENT
END:VCALENDAR