BEGIN:VCALENDAR
VERSION:2.0
PRODID:-//IFMST - ECPv6.15.11//NONSGML v1.0//EN
CALSCALE:GREGORIAN
METHOD:PUBLISH
X-WR-CALNAME:IFMST
X-ORIGINAL-URL:https://ifmst.org
X-WR-CALDESC:Events for IFMST
REFRESH-INTERVAL;VALUE=DURATION:PT1H
X-Robots-Tag:noindex
X-PUBLISHED-TTL:PT1H
BEGIN:VTIMEZONE
TZID:UTC
BEGIN:STANDARD
TZOFFSETFROM:+0000
TZOFFSETTO:+0000
TZNAME:UTC
DTSTART:20240101T000000
END:STANDARD
END:VTIMEZONE
BEGIN:VEVENT
DTSTART;VALUE=DATE:20250726
DTEND;VALUE=DATE:20250730
DTSTAMP:20260420T181223
CREATED:20250517T092402Z
LAST-MODIFIED:20250517T092402Z
UID:9127-1753488000-1753833599@ifmst.org
SUMMARY:Introduction to Culinary Tourism & Indian Ocean Spices
DESCRIPTION:Event Title: \n\nInternational Event: An Introduction to Culinary Tourism and Indian Ocean Spices\n\nCertification: \n\nInternational Certificate in Basic Skills for Culinary Tourism and Indian Ocean Spices\n\nTarget Audience: \n\nAll those interested in tourism events\n\nOverview: \nSpice Odyssey is a four-day international cultural and culinary tourism experience in the spice-rich island of Zanzibar. This event blends exploration\, food culture\, and heritage\, with a hands-on beginner-level training in culinary tourism and spice education from Indian Ocean regions (Tanzania\, India\, Sri Lanka\, Oman\, etc.).\nEvent description: \nDay 1: \nArrival & Welcome Ceremony \nIntroduction to Culinary Tourism \nSensory Tasting of Indian Ocean Spices \nDay 2: \nVisit Local Spice Farms \nCooking Workshop with Local Chefs \nInteractive Session: Spices in Heritage and Trade \nDay 3: \nMarket Tour: Local Ingredients & Spice Commerce \nGroup Challenge: “Spice Fusion Cooking” Competition \nCultural Night: Live Music + Traditional Dinner \nDay 4: \nSummary Panel & Feedback Session \nCertificate Award Ceremony \nDeparture \nRegistration Fee: \n\n$1\,950\nIncludes hotel accommodation with breakfast and snacks\, recorded videos\, international certificate\, support\, printed materials\, and more.\n\nEvent Benefits: \n\nExpanding Knowledge and Skills\nNetworking and Business Opportunities\nFamiliarity with New Travel Routes and Tourist Attraction\nEnhancing Cultural Awareness\nGaining Inspiration and New Ideas\n\nRegistration and Contact: \n\nWhatsApp: +49 176 84528517 & +905376716444\nInstagram: @ifmst_org\nOfficial Email: info@ifmst.org
URL:https://ifmst.org/calendar/introduction-to-culinary-tourism-indian-ocean-spices/
LOCATION:TANZANIA\, TANZANIA\, ZANZIBAR\, Tanzania\, United Republic of
CATEGORIES:Tourist Event
ATTACH;FMTTYPE=image/jpeg:https://ifmst.org/wp-content/uploads/2025/05/PHOTO-2025-05-17-10-54-29.jpg
ORGANIZER;CN="IFMST":MAILTO:info@ifmst.org
END:VEVENT
END:VCALENDAR