BEGIN:VCALENDAR
VERSION:2.0
PRODID:-//IFMST - ECPv6.15.11//NONSGML v1.0//EN
CALSCALE:GREGORIAN
METHOD:PUBLISH
X-ORIGINAL-URL:https://ifmst.org
X-WR-CALDESC:Events for IFMST
REFRESH-INTERVAL;VALUE=DURATION:PT1H
X-Robots-Tag:noindex
X-PUBLISHED-TTL:PT1H
BEGIN:VTIMEZONE
TZID:UTC
BEGIN:STANDARD
TZOFFSETFROM:+0000
TZOFFSETTO:+0000
TZNAME:UTC
DTSTART:20240101T000000
END:STANDARD
END:VTIMEZONE
BEGIN:VEVENT
DTSTART;VALUE=DATE:20250618
DTEND;VALUE=DATE:20250619
DTSTAMP:20260420T165951
CREATED:20250416T074008Z
LAST-MODIFIED:20250416T074606Z
UID:8953-1750204800-1750291199@ifmst.org
SUMMARY:International Fitness Coaching Course
DESCRIPTION:International Online Fitness Coaching Course (Applicable to all sports disciplines) \nIn today’s world\, fitness and physical health are not just personal goals but an integral part of professional coaching across all sports disciplines. The International Online Fitness Coaching Course offers a unique opportunity for enthusiasts\, coaches\, students\, and professionals in the field of sports to elevate their knowledge and skills through the latest scientific principles and international training techniques. \nCourse Degree: Level C Coaching Certificate \nCourse Level: International \nMode of Delivery: Online \nDate & Time: Course Start: 18 June 2025 \nDuration: 8 hours \nCourse Language: English \nTraining Content: \n• Principles of fitness training \n• Various exercises and training techniques \n• Healthy nutrition and weight management \n• Sports psychology and motivation \nRegistration Contact: \nWhatsApp: +49 176 84528517 & +905376716444 \nEmail: info@ifmst.org \nCourse Benefits: \n• Accredited international certificate upon completion \n• Access to a variety of educational resources and useful content \n• Opportunity to interact with coaches and participants from different countries \nCourse fee: $100 \nDiscount Conditions: \n1. 25% discount for participants who register by 18 May \n2. 50% discount for students of all academic disciplines \n3. 60% discount for municipal employees \nPayment Methods: \n1. Direct bank transfer to the federation’s account \n2. Transfer to digital wallet
URL:https://ifmst.org/calendar/international-fitness-coaching-course/
CATEGORIES:SPORT EVENT
ATTACH;FMTTYPE=image/png:https://ifmst.org/wp-content/uploads/2025/04/Black-And-Orange-Modern-Gym-Fitness-Poster.png
ORGANIZER;CN="IFMST":MAILTO:info@ifmst.org
END:VEVENT
END:VCALENDAR