BEGIN:VCALENDAR
VERSION:2.0
PRODID:-//IFMST - ECPv6.15.11//NONSGML v1.0//EN
CALSCALE:GREGORIAN
METHOD:PUBLISH
X-WR-CALNAME:IFMST
X-ORIGINAL-URL:https://ifmst.org
X-WR-CALDESC:Events for IFMST
REFRESH-INTERVAL;VALUE=DURATION:PT1H
X-Robots-Tag:noindex
X-PUBLISHED-TTL:PT1H
BEGIN:VTIMEZONE
TZID:UTC
BEGIN:STANDARD
TZOFFSETFROM:+0000
TZOFFSETTO:+0000
TZNAME:UTC
DTSTART:20240101T000000
END:STANDARD
END:VTIMEZONE
BEGIN:VEVENT
DTSTART;VALUE=DATE:20250404
DTEND;VALUE=DATE:20250405
DTSTAMP:20260420T220744
CREATED:20250308T170616Z
LAST-MODIFIED:20250308T204037Z
UID:8660-1743724800-1743811199@ifmst.org
SUMMARY:EXPO londrina 2025
DESCRIPTION:Promoted by Londrina Municipality\, in Brazil\, in partnership with the International Federation of Municipalities’ Sport & Tourism and Rural Society\, Commercial and Industry Association\, Sebrae and Paraná Government\, In 2025\, Londrina will host an unmissable international event! On the first day of Expo Londrina\, April 4th\, we will hold the third edition of Londrina Paraná Day\, a unique opportunity to strengthen and expand your international network.\n\nThe event will bring together national and international representatives from public and government entities\, associations\, companies\, and entrepreneurs from various sectors. It will be a dynamic environment\, ideal for exchanging experiences\, building strategic relationships\, and initiating new partnerships.\n\nDon’t miss the chance to connect with leaders from different continents. Register now and secure your spot at this innovative event\, which promises to open doors to new opportunities and transform businesses.\n\nSubmit these 4 items so that when the news is released\, those interested in participating can easily contact you.\n1- Direct contact number: Liz +55 43 3372-4031\n2- WhatsApp number: +55 43 99945-1206\n3- Email: liz.rodrigues@londrina.pr.gov.br\n4- Event website address: https://portal.londrina.pr.gov.br/londrina-parana-day
URL:https://ifmst.org/calendar/expo-londrina-2025/
CATEGORIES:Expo
ATTACH;FMTTYPE=image/jpeg:https://ifmst.org/wp-content/uploads/2025/03/PHOTO-2025-03-08-20-17-07.jpg
ORGANIZER;CN="londrina":MAILTO:liz.rodrigues@londrina.pr.gov.br
END:VEVENT
END:VCALENDAR